BEGIN:VCALENDAR
VERSION:2.0
PRODID:-//PACE - ECPv4.2.7//NONSGML v1.0//EN
CALSCALE:GREGORIAN
METHOD:PUBLISH
X-WR-CALNAME:PACE
X-ORIGINAL-URL:http://www.paceaustintx.com
X-WR-CALDESC:Events for PACE
BEGIN:VEVENT
DTSTART;TZID=UTC+0:20161231T200000
DTEND;TZID=UTC+0:20170101T020000
DTSTAMP:20260422T074853
CREATED:20161112T030533
LAST-MODIFIED:20161118T201748
UID:4017-1483201800-1483223400@www.paceaustintx.com
SUMMARY:New Year 2017
DESCRIPTION:\n\n \n\nNew Year 2017\n\n*10% Convenience Fee Has Been Added To Your Final Checkout.\n\n\n \tTickets available at the door with your valid Diver Licence or student ID for students\n\n\n\n\n \tPlease do not bring any alcohol\n\n\n\n\n \tNo refund\n\n\n\n\n\n\n\nNew Year 2017\n\n\n\nAdults $60.00 USD\nKids 5-10 $40.00 USD\nStudents $50.00 USD\n\n\n\n\n\n\n\n\n
URL:http://www.paceaustintx.com/event/new-year-2017/
LOCATION:6134 East U.S. 290 Frontage Road\, Austin\, TX\, 78752\, United States
END:VEVENT
END:VCALENDAR