BEGIN:VCALENDAR
VERSION:2.0
PRODID:-//PACE - ECPv4.2.7//NONSGML v1.0//EN
CALSCALE:GREGORIAN
METHOD:PUBLISH
X-WR-CALNAME:PACE
X-ORIGINAL-URL:http://www.paceaustintx.com
X-WR-CALDESC:Events for PACE
BEGIN:VEVENT
DTSTART;TZID=UTC+0:20161029T190000
DTEND;TZID=UTC+0:20161030T020000
DTSTAMP:20260422T091022
CREATED:20160929T204927
LAST-MODIFIED:20161024T033510
UID:3713-1477755000-1477780200@www.paceaustintx.com
SUMMARY:Persian Halloween Party
DESCRIPTION:[caption id="attachment_3985" align="alignnone" width="300"] Halloween Party 2016[/caption]\n\n[av_button label='Purchase Your Ticket Now! ' link='manually\,http://www.paceaustintx.com/events-payment-submission/' link_target='_blank' size='small' position='left' icon_select='yes' icon='ue800' font='entypo-fontello' color='green' custom_bg='#444444' custom_font='#ffffff']
URL:http://www.paceaustintx.com/event/persian-halloween-party/
LOCATION:6134 US-290 East \, Austin\, 78752\, United States
END:VEVENT
END:VCALENDAR